BEGIN:VCALENDAR
PRODID:-//dvv-bw.de//dvv.Portalplattform//DE
VERSION:2.0
METHOD:PUBLISH
BEGIN:VEVENT
DTSTART:20260425T060000Z
DTEND:20260425T080000Z
DTSTAMP:20260424T193516Z
UID:8727202-8727202-1777068000000
SUMMARY:Altpapier Sammlung
DESCRIPTION:Der TTC Steinach trägt mit der Sammlung des Altpapiers wesentlich zum Umweltschutz bei.
CLASS:PUBLIC
X-ALT-DESC;FMTTYPE=text/html:Der TTC Steinach trägt mit der Sammlung des Altpapiers wesentlich zum Umweltschutz bei.
END:VEVENT
END:VCALENDAR
