BEGIN:VCALENDAR
PRODID:-//dvv-bw.de//dvv.Portalplattform//DE
VERSION:2.0
METHOD:PUBLISH
BEGIN:VEVENT
DTSTART:20260718T160000Z
DTEND:20260720T180000Z
DTSTAMP:20260424T235505Z
RRULE;FREQ=DAILY;UNTIL=20260720T215959Z
UID:8654810-8654810-1784325600000
SUMMARY:Dorffest Welschensteinach
LOCATION:Platz der Freundschaft, Dorfstr. 19, 77790 Steinach-Welschensteinach
DESCRIPTION:traditionelles Fest mit viel Musik\, Tanz und Unterhaltung sowie einem großen kulinarischen Angebot
CLASS:PUBLIC
X-ALT-DESC;FMTTYPE=text/html:traditionelles Fest mit viel Musik\, Tanz und Unterhaltung sowie einem großen kulinarischen Angebot
END:VEVENT
END:VCALENDAR
