BEGIN:VCALENDAR
PRODID:-//dvv-bw.de//dvv.Portalplattform//DE
VERSION:2.0
METHOD:PUBLISH
BEGIN:VEVENT
DTSTART:20261010T080000Z
DTEND:20261011T100000Z
DTSTAMP:20260424T235617Z
RRULE;FREQ=DAILY;UNTIL=20261011T215959Z
UID:8727206-8727206-1791583200000
SUMMARY:Einweihung Kinzigtal-Steig
DESCRIPTION:Vielfältige Veranstaltungen in den Orten\, die der Kinzigtal-Steig verbindet.
CLASS:PUBLIC
X-ALT-DESC;FMTTYPE=text/html:Vielfältige Veranstaltungen in den Orten\, die der Kinzigtal-Steig verbindet.
END:VEVENT
END:VCALENDAR
