BEGIN:VCALENDAR
PRODID:-//dvv-bw.de//dvv.Portalplattform//DE
VERSION:2.0
METHOD:PUBLISH
BEGIN:VEVENT
DTSTART:20260710T170000Z
DTEND:20260710T190000Z
DTSTAMP:20260424T221315Z
UID:8599622-8599622-1783634400000
SUMMARY:Musikalischer Dämmerschoppen
DESCRIPTION:Genießen Sie ein kühles Getränk\, eine leckere Grillwurst und dazu Blasmusik.
CLASS:PUBLIC
X-ALT-DESC;FMTTYPE=text/html:Genießen Sie ein kühles Getränk\, eine leckere Grillwurst und dazu Blasmusik.
END:VEVENT
END:VCALENDAR
