BEGIN:VCALENDAR
PRODID:-//dvv-bw.de//dvv.Portalplattform//DE
VERSION:2.0
METHOD:PUBLISH
BEGIN:VEVENT
DTSTART:20260807T170000Z
DTEND:20260807T190000Z
DTSTAMP:20260424T235426Z
UID:8599624-8599624-1786053600000
SUMMARY:Musikalischer Dämmerschoppen
DESCRIPTION:Genießen Sie ein kühles Getränk\, eine leckere Grillwurst und dazu Blasmusik.
CLASS:PUBLIC
X-ALT-DESC;FMTTYPE=text/html:Genießen Sie ein kühles Getränk\, eine leckere Grillwurst und dazu Blasmusik.
END:VEVENT
END:VCALENDAR
