BEGIN:VCALENDAR
PRODID:-//dvv-bw.de//dvv.Portalplattform//DE
VERSION:2.0
METHOD:PUBLISH
BEGIN:VEVENT
DTSTART:20260912T163000Z
DTEND:20260912T183000Z
DTSTAMP:20260424T221403Z
UID:8599626-8599626-1789164000000
SUMMARY:Musikalischer Dämmerschoppen
DESCRIPTION:Genießen Sie ein kühles Getränk\, eine leckere Grillwurst und dazu Blasmusik.
CLASS:PUBLIC
X-ALT-DESC;FMTTYPE=text/html:Genießen Sie ein kühles Getränk\, eine leckere Grillwurst und dazu Blasmusik.
END:VEVENT
END:VCALENDAR
