BEGIN:VCALENDAR
PRODID:-//dvv-bw.de//dvv.Portalplattform//DE
VERSION:2.0
METHOD:PUBLISH
BEGIN:VEVENT
DTSTART:20261208T150000Z
DTEND:20261208T190000Z
DTSTAMP:20260425T013719Z
UID:8727242-8727242-1796684400000
SUMMARY:Nikolausmarkt
LOCATION:Treffpunkt Lindenplatz, Dorfstr. 8, 77790 Steinach-Welschensteinach
DESCRIPTION:Dorfmarkt in vorweihnachtlichem Ambiente in Welschensteinachs Dorfmitte.
CLASS:PUBLIC
X-ALT-DESC;FMTTYPE=text/html:Dorfmarkt in vorweihnachtlichem Ambiente in Welschensteinachs Dorfmitte.
END:VEVENT
END:VCALENDAR
