BEGIN:VCALENDAR
PRODID:-//dvv-bw.de//dvv.Portalplattform//DE
VERSION:2.0
METHOD:PUBLISH
BEGIN:VEVENT
DTSTART:20260628T081500Z
DTEND:20260628T101500Z
DTSTAMP:20260425T013746Z
UID:8654804-8654804-1782597600000
SUMMARY:Patrozinium und Hock
LOCATION:Peter u. Paul-Kirche, Dorfstr. 8, 77790 Steinach-Welschensteinach
DESCRIPTION:Fest zu Ehren der Schutzpatrone Peter & Paul
CLASS:PUBLIC
X-ALT-DESC;FMTTYPE=text/html:Fest zu Ehren der Schutzpatrone Peter & Paul
END:VEVENT
END:VCALENDAR
