BEGIN:VCALENDAR
PRODID:-//dvv-bw.de//dvv.Portalplattform//DE
VERSION:2.0
METHOD:PUBLISH
BEGIN:VEVENT
DTSTART:20260712T090000Z
DTEND:20260712T110000Z
DTSTAMP:20260424T235356Z
UID:8654808-8654808-1783807200000
SUMMARY:Pfarrfest
LOCATION:Heilig-Kreuz-Kirche, Hauptstr. 53, 77790 Steinach
DESCRIPTION:Nach dem Gottesdienst in der Heilig-Kreuz-Kirche findet anschließend das Sommerfest der Pfarrgemeinde statt.
CLASS:PUBLIC
X-ALT-DESC;FMTTYPE=text/html:Nach dem Gottesdienst in der Heilig-Kreuz-Kirche findet anschließend das Sommerfest der Pfarrgemeinde statt.
END:VEVENT
END:VCALENDAR
