BEGIN:VCALENDAR
PRODID:-//dvv-bw.de//dvv.Portalplattform//DE
VERSION:2.0
METHOD:PUBLISH
BEGIN:VEVENT
DTSTART:20260724T170000Z
DTEND:20260724T190000Z
DTSTAMP:20260424T184129Z
UID:8654812-8654812-1784844000000
SUMMARY:Sänger-Hock
LOCATION:Haus der Jugend und Vereine, Schulstr. 1, 77790 Steinach
DESCRIPTION:musikalischer Feierabend mit den Sängerinnen und Sängern des Gesangvereins Steinach
CLASS:PUBLIC
X-ALT-DESC;FMTTYPE=text/html:musikalischer Feierabend mit den Sängerinnen und Sängern des Gesangvereins Steinach
END:VEVENT
END:VCALENDAR
