BEGIN:VCALENDAR
PRODID:-//dvv-bw.de//dvv.Portalplattform//DE
VERSION:2.0
METHOD:PUBLISH
BEGIN:VEVENT
DTSTART:20260607T090000Z
DTEND:20260607T110000Z
DTSTAMP:20260424T185341Z
UID:8599612-8599612-1780783200000
SUMMARY:Schirrmaierhütte-Fest
LOCATION:Schirrmaierhütte\, Schirrmaierweg 8\, 77790 Steinach-Welschensteinach
DESCRIPTION:Hüttenfest um die beliebte Wandereinkehr des Verschönerungsvereins Steinach
CLASS:PUBLIC
X-ALT-DESC;FMTTYPE=text/html:Hüttenfest um die beliebte Wandereinkehr des Verschönerungsvereins Steinach
END:VEVENT
END:VCALENDAR
