BEGIN:VCALENDAR
PRODID:-//dvv-bw.de//dvv.Portalplattform//DE
VERSION:2.0
METHOD:PUBLISH
BEGIN:VEVENT
DTSTART:20260711T100000Z
DTEND:20260711T120000Z
DTSTAMP:20260424T190150Z
UID:8654806-8654806-1783720800000
SUMMARY:Schwimmbadfest der DLRG
LOCATION:Schwimmbad, Langmattstr. 28, 77790 Steinach
DESCRIPTION:Sommerfest der DLRG Ortsgruppe Steinach mit Spiel\, Spaß und kulinarischem Angebot.
CLASS:PUBLIC
X-ALT-DESC;FMTTYPE=text/html:Sommerfest der DLRG Ortsgruppe Steinach mit Spiel\, Spaß und kulinarischem Angebot.
END:VEVENT
END:VCALENDAR
