BEGIN:VCALENDAR
PRODID:-//dvv-bw.de//dvv.Portalplattform//DE
VERSION:2.0
METHOD:PUBLISH
BEGIN:VEVENT
DTSTART:20260801T170000Z
DTEND:20260802T190000Z
DTSTAMP:20260424T185848Z
RRULE;FREQ=DAILY;UNTIL=20260802T215959Z
UID:8654816-8654816-1785535200000
SUMMARY:Sommerfest der Feuerwehr Welschensteinach
LOCATION:Allmendhalle, Am Sportplatz 15, 77790 Steinach-Welschensteinach
DESCRIPTION:Die Welschensteinacher Feuerwehrabteilung lädt ein zum traditionellen Sommerfest beim Feuerwehrgerätehaus.
CLASS:PUBLIC
X-ALT-DESC;FMTTYPE=text/html:Die Welschensteinacher Feuerwehrabteilung lädt ein zum traditionellen Sommerfest beim Feuerwehrgerätehaus.
END:VEVENT
END:VCALENDAR
