BEGIN:VCALENDAR
PRODID:-//dvv-bw.de//dvv.Portalplattform//DE
VERSION:2.0
METHOD:PUBLISH
BEGIN:VEVENT
DTSTART:20260816T080000Z
DTEND:20260816T100000Z
DTSTAMP:20260424T185300Z
UID:8654818-8654818-1786831200000
SUMMARY:Sommerfest der Freiwilligen Feuerwehr Steinach
LOCATION:Sportplatz Steinach\, Sportplatzstraße\, 77790 Steinach
DESCRIPTION:Wasser marsch\, bunte Unterhaltung und Kulinarisches aus Küche und Keller
CLASS:PUBLIC
X-ALT-DESC;FMTTYPE=text/html:Wasser marsch\, bunte Unterhaltung und Kulinarisches aus Küche und Keller
END:VEVENT
END:VCALENDAR
