BEGIN:VCALENDAR
PRODID:-//dvv-bw.de//dvv.Portalplattform//DE
VERSION:2.0
METHOD:PUBLISH
BEGIN:VEVENT
DTSTART:20261127T160000Z
DTEND:20261127T210000Z
DTSTAMP:20260424T223152Z
UID:8727226-8727226-1795734000000
SUMMARY:Steinacher Glühweinhütte
DESCRIPTION:Zur "Steinacher Glühweinhütte" lädt der Wirtschaftskreis Steinach zusammen mit verschiedenen Gruppen und Vereinen herzlich ein.
CLASS:PUBLIC
X-ALT-DESC;FMTTYPE=text/html:Zur "Steinacher Glühweinhütte" lädt der Wirtschaftskreis Steinach zusammen mit verschiedenen Gruppen und Vereinen herzlich ein.
END:VEVENT
END:VCALENDAR
