BEGIN:VCALENDAR
PRODID:-//dvv-bw.de//dvv.Portalplattform//DE
VERSION:2.0
METHOD:PUBLISH
BEGIN:VEVENT
DTSTART:20261204T160000Z
DTEND:20261204T210000Z
DTSTAMP:20260424T235859Z
UID:8727234-8727234-1796338800000
SUMMARY:Steinacher Glühweinhütte
DESCRIPTION:Zur "Steinacher Glühweinhütte" lädt der Wirtschaftskreis Steinach zusammen mit verschiedenen Gruppen und Vereinen herzlich ein.
CLASS:PUBLIC
X-ALT-DESC;FMTTYPE=text/html:Zur "Steinacher Glühweinhütte" lädt der Wirtschaftskreis Steinach zusammen mit verschiedenen Gruppen und Vereinen herzlich ein.
END:VEVENT
END:VCALENDAR
