BEGIN:VCALENDAR
PRODID:-//dvv-bw.de//dvv.Portalplattform//DE
VERSION:2.0
METHOD:PUBLISH
BEGIN:VEVENT
DTSTART:20260913T090000Z
DTEND:20260913T110000Z
DTSTAMP:20260424T202721Z
UID:8699704-8699704-1789250400000
SUMMARY:Zwiebelkuchenfest
DESCRIPTION:Traditionelles Herbstfest des Heimat- und Trachtenvereins zum Patrozinium der Heilig Kreuz Kirche
CLASS:PUBLIC
X-ALT-DESC;FMTTYPE=text/html:Traditionelles Herbstfest des Heimat- und Trachtenvereins zum Patrozinium der Heilig Kreuz Kirche
END:VEVENT
END:VCALENDAR
