BEGIN:VCALENDAR
PRODID:-//dvv-bw.de//dvv.Portalplattform//DE
VERSION:2.0
METHOD:PUBLISH
BEGIN:VEVENT
DTSTART:20260704T090000Z
DTEND:20260704T110000Z
DTSTAMP:20260424T204953Z
UID:8630304-8630304-1783116000000
SUMMARY:60 Jahre TV Steinach
LOCATION:Pfarrgarten, Georg-Schwendemann-Str., 77790 Steinach
DESCRIPTION:Sommerfest anlässlich des 60jährigen Jubiläums des Turnverein Steinach
CLASS:PUBLIC
X-ALT-DESC;FMTTYPE=text/html:Sommerfest anlässlich des 60jährigen Jubiläums des Turnverein Steinach
END:VEVENT
END:VCALENDAR
